BEGIN:VCALENDAR
VERSION:2.0
PRODID:-//Signal Hill Neighborhood Association - ECPv6.15.20//NONSGML v1.0//EN
CALSCALE:GREGORIAN
METHOD:PUBLISH
X-ORIGINAL-URL:https://signalhillna.com
X-WR-CALDESC:Events for Signal Hill Neighborhood Association
REFRESH-INTERVAL;VALUE=DURATION:PT1H
X-Robots-Tag:noindex
X-PUBLISHED-TTL:PT1H
BEGIN:VTIMEZONE
TZID:America/Chicago
BEGIN:DAYLIGHT
TZOFFSETFROM:-0600
TZOFFSETTO:-0500
TZNAME:CDT
DTSTART:20250309T080000
END:DAYLIGHT
BEGIN:STANDARD
TZOFFSETFROM:-0500
TZOFFSETTO:-0600
TZNAME:CST
DTSTART:20251102T070000
END:STANDARD
BEGIN:DAYLIGHT
TZOFFSETFROM:-0600
TZOFFSETTO:-0500
TZNAME:CDT
DTSTART:20260308T080000
END:DAYLIGHT
BEGIN:STANDARD
TZOFFSETFROM:-0500
TZOFFSETTO:-0600
TZNAME:CST
DTSTART:20261101T070000
END:STANDARD
BEGIN:DAYLIGHT
TZOFFSETFROM:-0600
TZOFFSETTO:-0500
TZNAME:CDT
DTSTART:20270314T080000
END:DAYLIGHT
BEGIN:STANDARD
TZOFFSETFROM:-0500
TZOFFSETTO:-0600
TZNAME:CST
DTSTART:20271107T070000
END:STANDARD
END:VTIMEZONE
BEGIN:VEVENT
DTSTART;TZID=America/Chicago:20260321T140000
DTEND;TZID=America/Chicago:20260321T170000
DTSTAMP:20260423T030836
CREATED:20260308T165857Z
LAST-MODIFIED:20260308T165857Z
UID:224-1774101600-1774112400@signalhillna.com
SUMMARY:Annual Signal Hill Community Garden Easter Egg Hunt
DESCRIPTION:
URL:https://signalhillna.com/event/annual-signal-hill-community-garden-easter-egg-hunt/
LOCATION:Signal Hill Community Garden\, 15 S. 95th St\, Belleville\, IL\, 62223\, United States
CATEGORIES:SHCG
ATTACH;FMTTYPE=image/jpeg:https://signalhillna.com/wp-content/uploads/2026/03/Messenger_creation_556264FC-A95F-413B-AE01-EC9E364D2564.jpeg
ORGANIZER;CN="Signal Hill Community Garden":MAILTO:signalhillcommunitygarden@gmail.com
END:VEVENT
END:VCALENDAR