BEGIN:VCALENDAR
VERSION:2.0
PRODID:-//Signal Hill Neighborhood Association - ECPv6.15.20//NONSGML v1.0//EN
CALSCALE:GREGORIAN
METHOD:PUBLISH
X-ORIGINAL-URL:https://signalhillna.com
X-WR-CALDESC:Events for Signal Hill Neighborhood Association
REFRESH-INTERVAL;VALUE=DURATION:PT1H
X-Robots-Tag:noindex
X-PUBLISHED-TTL:PT1H
BEGIN:VTIMEZONE
TZID:America/Chicago
BEGIN:DAYLIGHT
TZOFFSETFROM:-0600
TZOFFSETTO:-0500
TZNAME:CDT
DTSTART:20240310T080000
END:DAYLIGHT
BEGIN:STANDARD
TZOFFSETFROM:-0500
TZOFFSETTO:-0600
TZNAME:CST
DTSTART:20241103T070000
END:STANDARD
BEGIN:DAYLIGHT
TZOFFSETFROM:-0600
TZOFFSETTO:-0500
TZNAME:CDT
DTSTART:20250309T080000
END:DAYLIGHT
BEGIN:STANDARD
TZOFFSETFROM:-0500
TZOFFSETTO:-0600
TZNAME:CST
DTSTART:20251102T070000
END:STANDARD
BEGIN:DAYLIGHT
TZOFFSETFROM:-0600
TZOFFSETTO:-0500
TZNAME:CDT
DTSTART:20260308T080000
END:DAYLIGHT
BEGIN:STANDARD
TZOFFSETFROM:-0500
TZOFFSETTO:-0600
TZNAME:CST
DTSTART:20261101T070000
END:STANDARD
END:VTIMEZONE
BEGIN:VEVENT
DTSTART;TZID=America/Chicago:20250913T080000
DTEND;TZID=America/Chicago:20250913T120000
DTSTAMP:20260423T123533
CREATED:20251021T173852Z
LAST-MODIFIED:20251021T173852Z
UID:142-1757750400-1757764800@signalhillna.com
SUMMARY:2025 Garage Sale Event
DESCRIPTION:While we do not have a comprehensive list of homes\, about 30-50 of our residents throughout the Signal Hill and Briar Hill region have rolled out some great treasures for this event year after year! \nCome experience a thrilling search for finds in one of the most beautiful neighborhoods in the Metro East! \nNEIGHBORS: There is no fee or registration required to participate\, just get those tables out and filled with your wares! Signs are placed at the entrances to the neighborhood – if you have a more “hidden” home\, you may wish to add your own signs at streets near you!
URL:https://signalhillna.com/event/2025-garage-sale-event/
LOCATION:Signal Hill Neighborhood
ORGANIZER;CN="SHNA":MAILTO:shna.belleville@gmail.com
END:VEVENT
END:VCALENDAR