BEGIN:VCALENDAR
VERSION:2.0
PRODID:-//Signal Hill Neighborhood Association - ECPv6.15.20//NONSGML v1.0//EN
CALSCALE:GREGORIAN
METHOD:PUBLISH
X-ORIGINAL-URL:https://signalhillna.com
X-WR-CALDESC:Events for Signal Hill Neighborhood Association
REFRESH-INTERVAL;VALUE=DURATION:PT1H
X-Robots-Tag:noindex
X-PUBLISHED-TTL:PT1H
BEGIN:VTIMEZONE
TZID:America/Chicago
BEGIN:DAYLIGHT
TZOFFSETFROM:-0600
TZOFFSETTO:-0500
TZNAME:CDT
DTSTART:20240310T080000
END:DAYLIGHT
BEGIN:STANDARD
TZOFFSETFROM:-0500
TZOFFSETTO:-0600
TZNAME:CST
DTSTART:20241103T070000
END:STANDARD
BEGIN:DAYLIGHT
TZOFFSETFROM:-0600
TZOFFSETTO:-0500
TZNAME:CDT
DTSTART:20250309T080000
END:DAYLIGHT
BEGIN:STANDARD
TZOFFSETFROM:-0500
TZOFFSETTO:-0600
TZNAME:CST
DTSTART:20251102T070000
END:STANDARD
BEGIN:DAYLIGHT
TZOFFSETFROM:-0600
TZOFFSETTO:-0500
TZNAME:CDT
DTSTART:20260308T080000
END:DAYLIGHT
BEGIN:STANDARD
TZOFFSETFROM:-0500
TZOFFSETTO:-0600
TZNAME:CST
DTSTART:20261101T070000
END:STANDARD
BEGIN:DAYLIGHT
TZOFFSETFROM:-0600
TZOFFSETTO:-0500
TZNAME:CDT
DTSTART:20270314T080000
END:DAYLIGHT
BEGIN:STANDARD
TZOFFSETFROM:-0500
TZOFFSETTO:-0600
TZNAME:CST
DTSTART:20271107T070000
END:STANDARD
END:VTIMEZONE
BEGIN:VEVENT
DTSTART;TZID=America/Chicago:20260414T183000
DTEND;TZID=America/Chicago:20260414T190000
DTSTAMP:20260421T064553
CREATED:20260408T152416Z
LAST-MODIFIED:20260413T153013Z
UID:229-1776191400-1776193200@signalhillna.com
SUMMARY:April 2026 SHNA Board Meeting
DESCRIPTION:The next meeting of our SHNA Board of Directors will convene at 6:30pm on Tuesday\, April 14th at 6:30pm in the SHFD Meeting Room. \nOnly board members are required to attend this meeting\, but all members\, residents\, and interested parties are welcome. \nThe agenda will be short but the topics will be dense: \n\nOngoing group rate efforts for household waste collections\nTraffic safety solutions discussions\nBoulevard Assn. merger discussions\n\nExpect this meeting to run at least 1.5 hours.
URL:https://signalhillna.com/event/april-2026-shna-board-meeting/
LOCATION:Signal Hill Fire Department Meeting Room\, 329 Hazel Ave\, Belleville\, IL\, 62223\, United States
CATEGORIES:SHNA
ORGANIZER;CN="SHNA":MAILTO:shna.belleville@gmail.com
END:VEVENT
BEGIN:VEVENT
DTSTART;TZID=America/Chicago:20260321T140000
DTEND;TZID=America/Chicago:20260321T170000
DTSTAMP:20260421T064553
CREATED:20260308T165857Z
LAST-MODIFIED:20260308T165857Z
UID:224-1774101600-1774112400@signalhillna.com
SUMMARY:Annual Signal Hill Community Garden Easter Egg Hunt
DESCRIPTION:
URL:https://signalhillna.com/event/annual-signal-hill-community-garden-easter-egg-hunt/
LOCATION:Signal Hill Community Garden\, 15 S. 95th St\, Belleville\, IL\, 62223\, United States
CATEGORIES:SHCG
ATTACH;FMTTYPE=image/jpeg:https://signalhillna.com/wp-content/uploads/2026/03/Messenger_creation_556264FC-A95F-413B-AE01-EC9E364D2564.jpeg
ORGANIZER;CN="Signal Hill Community Garden":MAILTO:signalhillcommunitygarden@gmail.com
END:VEVENT
BEGIN:VEVENT
DTSTART;TZID=America/Chicago:20251108T100000
DTEND;TZID=America/Chicago:20251108T120000
DTSTAMP:20260421T064553
CREATED:20251021T180012Z
LAST-MODIFIED:20251021T211659Z
UID:158-1762596000-1762603200@signalhillna.com
SUMMARY:Community Garden Fall 2025 Cleanup
DESCRIPTION:SHCG is hosting a fall clean up event on Saturday\, November 8th. So if you’re looking for a way to get involved with The Garden\, this is it! Also\, we are looking for new board members. If you’re interested\, please reach out to signalhillcommunitygarden@gmail.com
URL:https://signalhillna.com/event/community-garden-fall-2025-cleanup/
LOCATION:Signal Hill Community Garden\, 15 S. 95th St\, Belleville\, IL\, 62223\, United States
ATTACH;FMTTYPE=image/jpeg:https://signalhillna.com/wp-content/uploads/2025/10/492004293_122204517308161668_996101281169130049_n.jpg
ORGANIZER;CN="Signal Hill Community Garden":MAILTO:signalhillcommunitygarden@gmail.com
END:VEVENT
BEGIN:VEVENT
DTSTART;TZID=America/Chicago:20251104T063000
DTEND;TZID=America/Chicago:20251104T193000
DTSTAMP:20260421T064553
CREATED:20251030T213731Z
LAST-MODIFIED:20251030T213731Z
UID:222-1762237800-1762284600@signalhillna.com
SUMMARY:November 2025 SHNA Board Meeting
DESCRIPTION:The November/Q4 meeting of our SHNA Board of Directors will convene at 6:30pm on Tuesday\, November 4\, 2025 at 6:30pm in the SHFD Meeting Room. \nOnly board members are required to attend this meeting\, but all members\, residents\, and interested parties are welcome. \nThe agenda will be relatively light\, with topics to include a short review of financials\, continued discussions on our web and communication efforts\, and holiday festivities in our neighborhood. \n 
URL:https://signalhillna.com/event/november-2025-shna-board-meeting/
LOCATION:Signal Hill Fire Department Meeting Room\, 329 Hazel Ave\, Belleville\, IL\, 62223\, United States
CATEGORIES:SHNA
ORGANIZER;CN="SHNA":MAILTO:shna.belleville@gmail.com
END:VEVENT
BEGIN:VEVENT
DTSTART;TZID=America/Chicago:20251031T180000
DTEND;TZID=America/Chicago:20251031T200000
DTSTAMP:20260421T064553
CREATED:20251030T210555Z
LAST-MODIFIED:20251030T210555Z
UID:220-1761933600-1761940800@signalhillna.com
SUMMARY:Trick-or-Treat on The Boulevard 2025
DESCRIPTION:The regular Signal Hill Boulevard trick-or-treating event is set for Friday\, October 31 from 6:00-8:00pm (or until out of candy!) \nThe time is due to being one of the best attended Halloween TOT neighborhoods around; many of our Boulevard residents see over one thousand visitors in these two hours. \nFor the two hours scheduled\, the first through fourth blocks will be closed to all non-essential traffic\, and the SHBA has hired St. Clair County Sherriff’s deputies to watch the entrances and provide emergency support if needed. \nPublic parking will be made available at Signal Hill School and Signal Hill United Methodist Church. \nIf you are visiting\, welcome! Our neighbors are thrilled to spend the evening with you and your children. \nWhether you are a resident or a guest\, please remember that this evening is put on voluntarily by each participating family. Respect the property and wishes of our neighbors to help ensure a fun evening for all!
URL:https://signalhillna.com/event/trick-or-treat-on-the-boulevard-2025/
LOCATION:Signal Hill Boulevard
CATEGORIES:SHBA
END:VEVENT
BEGIN:VEVENT
DTSTART;TZID=America/Chicago:20251030T180000
DTEND;TZID=America/Chicago:20251030T200000
DTSTAMP:20260421T064553
CREATED:20251021T185416Z
LAST-MODIFIED:20251030T173257Z
UID:175-1761847200-1761854400@signalhillna.com
SUMMARY:Pumpkin Promenade
DESCRIPTION:Come see all the carved pumpkins on display that the neighborhood came up with this year! \nBring your own pumpkins to add to the festivities (and remember to take it home at the end of the night) – let’s really get SHB glowing! \n**Due to weather – this has been rescheduled for Thursday the 30th**
URL:https://signalhillna.com/event/pumpkin-promenade-2025/
LOCATION:Signal Hill Boulevard
CATEGORIES:SHBA
ATTACH;FMTTYPE=image/jpeg:https://signalhillna.com/wp-content/uploads/2025/10/PumpkinPromenade25.jpg
END:VEVENT
BEGIN:VEVENT
DTSTART;TZID=America/Chicago:20251025T120000
DTEND;TZID=America/Chicago:20251025T150000
DTSTAMP:20260421T064553
CREATED:20251021T184525Z
LAST-MODIFIED:20251021T184525Z
UID:172-1761393600-1761404400@signalhillna.com
SUMMARY:Signal Hill 2025 Pumpkin Carving
DESCRIPTION:Come join the fun on October 25th noon to 3pm – bring your pumpkins or come early to get a donated one. We will be carving for the Pumpkin Promonade\, to occur the next night\, Sunday October 26th at 6pm!
URL:https://signalhillna.com/event/signal-hill-2025-pumpkin-carving/
LOCATION:Signal Hill United Methodist Church\, 47 Signal Hill Place\, Belleville\, IL\, 62223\, United States
END:VEVENT
BEGIN:VEVENT
DTSTART;TZID=America/Chicago:20251024T180000
DTEND;TZID=America/Chicago:20251024T200000
DTSTAMP:20260421T064553
CREATED:20251021T174616Z
LAST-MODIFIED:20251021T211822Z
UID:145-1761328800-1761336000@signalhillna.com
SUMMARY:Signal Hill School PTO Fall Festival
DESCRIPTION:The SHS Fall Festival\, sponsored by the SHS PTO\, is coming up fast! \n  \nPlease consider volunteering to run a game\, craft\, or be on safety patrol through the SignUp Genius link below. This event cannot happen without volunteers! \n  \nhttps://www.signupgenius.com/go/10C044FACA92DA1F58-59303742-shsfall \n  \nWant to donate prizes? Contact Mrs. Carpenter (ccarpenter@signalhill181.org)
URL:https://signalhillna.com/event/145/
LOCATION:IL
ATTACH;FMTTYPE=image/jpeg:https://signalhillna.com/wp-content/uploads/2025/10/FB_IMG_1761068466119.jpg
END:VEVENT
BEGIN:VEVENT
DTSTART;TZID=America/Chicago:20251005T120000
DTEND;TZID=America/Chicago:20251005T170000
DTSTAMP:20260421T064553
CREATED:20251021T180404Z
LAST-MODIFIED:20251021T180404Z
UID:162-1759665600-1759683600@signalhillna.com
SUMMARY:SHBA 2025 Harvest Hoedown
DESCRIPTION:The annual SHBA Harvest Hoedown is on Sunday\, October 5th from 12:00 – 5:00.  Scarecrow making\, chili\, pies\, bake sale\, DJ and dancing\, BINGO\, and more! Please consider signing up to participate in chili cook-off or pie baking competition. And lots of volunteers will be needed throughout the day to make this neighborhood celebration a success! \nIf you are unable to attend or volunteer but would like to donate items for the event (soda\, water\, hot dogs\, buns\, single chip servings\, or BINGO prizes) please sign up below. \nSignal Hill Boulevard Association: Harvest Hoedown – October 5\, 2025
URL:https://signalhillna.com/event/shba-2025-harvest-hoedown/
LOCATION:Signal Hill Boulevard – Third Block
END:VEVENT
BEGIN:VEVENT
DTSTART;TZID=America/Chicago:20250913T080000
DTEND;TZID=America/Chicago:20250913T120000
DTSTAMP:20260421T064553
CREATED:20251021T173852Z
LAST-MODIFIED:20251021T173852Z
UID:142-1757750400-1757764800@signalhillna.com
SUMMARY:2025 Garage Sale Event
DESCRIPTION:While we do not have a comprehensive list of homes\, about 30-50 of our residents throughout the Signal Hill and Briar Hill region have rolled out some great treasures for this event year after year! \nCome experience a thrilling search for finds in one of the most beautiful neighborhoods in the Metro East! \nNEIGHBORS: There is no fee or registration required to participate\, just get those tables out and filled with your wares! Signs are placed at the entrances to the neighborhood – if you have a more “hidden” home\, you may wish to add your own signs at streets near you!
URL:https://signalhillna.com/event/2025-garage-sale-event/
LOCATION:Signal Hill Neighborhood
ORGANIZER;CN="SHNA":MAILTO:shna.belleville@gmail.com
END:VEVENT
END:VCALENDAR